{
 "currentVersion": 11.5,
 "cimVersion": "3.5.0",
 "serviceDescription": "",
 "mapName": "Layers",
 "description": "",
 "copyrightText": "",
 "supportsDynamicLayers": true,
 "layers": [
  {
   "id": 0,
   "name": "2009 FSA Imagery",
   "parentLayerId": -1,
   "defaultVisibility": true,
   "subLayerIds": null,
   "minScale": 0,
   "maxScale": 0,
   "type": "Raster Layer",
   "supportsDynamicLegends": true
  }
 ],
 "tables": [],
 "spatialReference": {
  "wkid": 103793,
  "latestWkid": 103793,
  "xyTolerance": 0.0032808333333333335,
  "zTolerance": 0.001,
  "mTolerance": 0.001,
  "falseX": -119158600,
  "falseY": -98359000,
  "xyUnits": 3.763707437134059E7,
  "falseZ": -100000,
  "zUnits": 10000,
  "falseM": -100000,
  "mUnits": 10000
 },
 "singleFusedMapCache": true,
 "tileInfo": {
  "rows": 256,
  "cols": 256,
  "dpi": 96,
  "format": "JPEG",
  "compressionQuality": 75,
  "origin": {
   "x": -119158600,
   "y": 140958200
  },
  "spatialReference": {
   "wkid": 103793,
   "latestWkid": 103793,
   "xyTolerance": 0.0032808333333333335,
   "zTolerance": 0.001,
   "mTolerance": 0.001,
   "falseX": -119158600,
   "falseY": -98359000,
   "xyUnits": 3.763707437134059E7,
   "falseZ": -100000,
   "zUnits": 10000,
   "falseM": -100000,
   "mUnits": 10000
  },
  "lods": [
   {
    "level": 0,
    "resolution": 316.84027777777777,
    "scale": 365000
   },
   {
    "level": 1,
    "resolution": 55.00000000000001,
    "scale": 63360
   },
   {
    "level": 2,
    "resolution": 20.833333333333336,
    "scale": 24000
   },
   {
    "level": 3,
    "resolution": 10.416666666666668,
    "scale": 12000
   },
   {
    "level": 4,
    "resolution": 5.208333333333334,
    "scale": 6000
   },
   {
    "level": 5,
    "resolution": 2.0833333333333335,
    "scale": 2400
   },
   {
    "level": 6,
    "resolution": 1.0416666666666667,
    "scale": 1200
   },
   {
    "level": 7,
    "resolution": 0.5208333333333334,
    "scale": 600
   }
  ]
 },
 "storageInfo": {
  "storageFormat": "esriMapCacheStorageModeCompact",
  "packetSize": 128
 },
 "initialExtent": {
  "xmin": -55058.13509505242,
  "ymin": 418327.4271148524,
  "xmax": 1082424.881209296,
  "ymax": 514115.4705931133,
  "spatialReference": {
   "wkid": 103793,
   "latestWkid": 103793,
   "xyTolerance": 0.0032808333333333335,
   "zTolerance": 0.001,
   "mTolerance": 0.001,
   "falseX": -119158600,
   "falseY": -98359000,
   "xyUnits": 3.763707437134059E7,
   "falseZ": -100000,
   "zUnits": 10000,
   "falseM": -100000,
   "mUnits": 10000
  }
 },
 "fullExtent": {
  "xmin": 338114.42986417026,
  "ymin": 73365.72963133256,
  "xmax": 656936.2580567268,
  "ymax": 250517.33252638826,
  "spatialReference": {
   "wkid": 103793,
   "latestWkid": 103793,
   "xyTolerance": 0.0032808333333333335,
   "zTolerance": 0.001,
   "mTolerance": 0.001,
   "falseX": -119158600,
   "falseY": -98359000,
   "xyUnits": 3.763707437134059E7,
   "falseZ": -100000,
   "zUnits": 10000,
   "falseM": -100000,
   "mUnits": 10000
  }
 },
 "datesInUnknownTimezone": false,
 "minScale": 365000,
 "maxScale": 600,
 "units": "esriFeet",
 "supportedImageFormatTypes": "PNG32,PNG24,PNG,JPG,DIB,TIFF,EMF,PS,PDF,GIF,SVG,SVGZ,BMP",
 "documentInfo": {
  "Title": "",
  "Author": "",
  "Comments": "",
  "Subject": "",
  "Category": "",
  "Version": "10.1",
  "AntialiasingMode": "Best",
  "TextAntialiasingMode": "Force",
  "Keywords": ""
 },
 "supportsQueryDomains": true,
 "capabilities": "Map,Query,Data",
 "supportedQueryFormats": "JSON, geoJSON, PBF",
 "exportTilesAllowed": false,
 "referenceScale": 0.0,
 "datumTransformations": [
  {
   "geoTransforms": [
    {
     "wkid": 108001,
     "latestWkid": 1241,
     "transformForward": true,
     "name": "NAD_1927_To_NAD_1983_NADCON"
    }
   ]
  },
  {
   "geoTransforms": [
    {
     "wkid": 108001,
     "latestWkid": 1241,
     "transformForward": false,
     "name": "NAD_1927_To_NAD_1983_NADCON"
    }
   ]
  }
 ],
 "supportsDatumTransformation": true,
 "archivingInfo": {
  "supportsHistoricMoment": false
 },
 "supportsClipping": true,
 "supportsSpatialFilter": true,
 "supportsTimeRelation": true,
 "supportsQueryDataElements": true,
 "mapUnits": {
  "uwkid": 9003
 },
 "maxSelectionCount": 2000,
 "maxRecordCount": 1000,
 "maxImageHeight": 4096,
 "maxImageWidth": 4096,
 "supportedExtensions": "",
 "serviceItemId": "721b1c6eb63a4818a5e5080744ce2b74"
}
